BEGIN:VCALENDAR
VERSION:2.0
PRODID:-//Tukios.com/
BEGIN:VEVENT
UID:7e36dcb2-daf9-4420-96f2-2b003b1434cf@www.getzfuneralhome.com
DTSTAMP:20260422T202949Z
DTSTART:20260428T000000Z
DTEND:20260428T010000Z
SUMMARY:Visitation
DESCRIPTION:
URL:https://www.getzfuneralhome.com/obituaries/berta-hernandez-covey
LOCATION:Getz Funeral Home 1410 E. Bowman Ave.  Las Cruces NM 88001
GEO:32.3105579;-106.7649452
END:VEVENT
END:VCALENDAR