BEGIN:VCALENDAR
VERSION:2.0
PRODID:-//Tukios.com/
BEGIN:VEVENT
UID:ee6304a6-fce4-4404-bf4e-0eaadfd5ad6c@www.getzfuneralhome.com
DTSTAMP:20260422T202553Z
DTSTART:20260428T160000Z
DTEND:20260428T170000Z
SUMMARY:Funeral Service
DESCRIPTION:
URL:https://www.getzfuneralhome.com/obituaries/berta-hernandez-covey
LOCATION:Basilica of San Albino 2270 Calle Principal  Las Cruces NM 88005
GEO:32.2748945;-106.7962564
END:VEVENT
END:VCALENDAR