BEGIN:VCALENDAR
VERSION:2.0
PRODID:-//Tukios.com/
BEGIN:VEVENT
UID:6cf6274e-5e4f-464b-b9a6-260f08a7c934@www.getzfuneralhome.com
DTSTAMP:20260422T014321Z
DTSTART:20260427T160000Z
DTEND:20260427T163000Z
SUMMARY:Prayer Service
DESCRIPTION:
URL:https://www.getzfuneralhome.com/obituaries/darlene-morales
LOCATION:St. Genevieve Catholic Church 100 S Espina St  Las Cruces NM 
	88001
GEO:32.3112089;-106.7698637
END:VEVENT
END:VCALENDAR