BEGIN:VCALENDAR
VERSION:2.0
PRODID:-//Tukios.com/
BEGIN:VEVENT
UID:c71b4a8c-b9e3-45bb-8575-1daca8a2675b@www.getzfuneralhome.com
DTSTAMP:20260422T014342Z
DTSTART:20260427T163000Z
DTEND:20260427T173000Z
SUMMARY:Mass
DESCRIPTION:
URL:https://www.getzfuneralhome.com/obituaries/darlene-morales
LOCATION:St. Genevieve Catholic Church 100 S Espina St  Las Cruces NM 
	88001
GEO:32.3112089;-106.7698637
END:VEVENT
END:VCALENDAR