BEGIN:VCALENDAR
VERSION:2.0
PRODID:-//Tukios.com/
BEGIN:VEVENT
UID:0c8b7768-ce62-49af-abb1-641502be8dc4@www.getzfuneralhome.com
DTSTAMP:20260421T225040Z
DTSTART:20260429T163000Z
DTEND:20260429T173000Z
SUMMARY:Mass
DESCRIPTION:
URL:https://www.getzfuneralhome.com/obituaries/lisa-gallegos
LOCATION:St. Anthony Catholic Church 324 Lincoln Street  Anthony NM 88021
GEO:32.0015956;-106.6038496
END:VEVENT
END:VCALENDAR