BEGIN:VCALENDAR
VERSION:2.0
PRODID:-//Tukios.com/
BEGIN:VEVENT
UID:fb914114-6099-473d-a759-867a4a576995@www.getzfuneralhome.com
DTSTAMP:20260421T224629Z
DTSTART:20260429T163000Z
DTEND:20260429T173000Z
SUMMARY:Other
DESCRIPTION:
URL:https://www.getzfuneralhome.com/obituaries/lisa-gallegos
LOCATION:Memory Gardens of the Vally 4900 McNutt Road  Santa Teresa NM 
	88008
GEO:31.8390276;-106.6191441
END:VEVENT
END:VCALENDAR