BEGIN:VCALENDAR
VERSION:2.0
PRODID:-//Tukios.com/
BEGIN:VEVENT
UID:91fd1cad-f524-43b8-977d-e745b084a3cf@www.getzfuneralhome.com
DTSTAMP:20260420T181713Z
DTSTART:20260422T200000Z
DTEND:20260422T210000Z
SUMMARY:Visitation
DESCRIPTION:
URL:https://www.getzfuneralhome.com/obituaries/randy-delgado
LOCATION:Getz Funeral Home 1410 E. Bowman Ave.  Las Cruces NM 88001
GEO:32.3105579;-106.7649452
END:VEVENT
END:VCALENDAR