BEGIN:VCALENDAR
VERSION:2.0
PRODID:-//Tukios.com/
BEGIN:VEVENT
UID:02f8940b-11c2-4ab7-9a3a-b67ee665e111@www.getzfuneralhome.com
DTSTAMP:20260420T181959Z
DTSTART:20260422T210000Z
DTEND:20260422T220000Z
SUMMARY:Funeral Service
DESCRIPTION:
URL:https://www.getzfuneralhome.com/obituaries/randy-delgado
LOCATION:Getz Funeral Home 1410 E. Bowman Ave.  Las Cruces NM 88001
GEO:32.3105579;-106.7649452
END:VEVENT
END:VCALENDAR